BEGIN:VCALENDAR
VERSION:2.0
PRODID:-//Cátedra del Agua - ECPv4.6.25//NONSGML v1.0//EN
CALSCALE:GREGORIAN
METHOD:PUBLISH
X-WR-CALNAME:Cátedra del Agua
X-ORIGINAL-URL:https://catedradelaguaua.org
X-WR-CALDESC:Eventos para Cátedra del Agua
BEGIN:VEVENT
DTSTART;TZID=Europe/Madrid:20220922T140000
DTEND;TZID=Europe/Madrid:20220922T203000
DTSTAMP:20260422T135036
CREATED:20220913T144649Z
LAST-MODIFIED:20220913T144649Z
UID:1745-1663855200-1663878600@catedradelaguaua.org
SUMMARY:SEMINARIO DE INTERNACIONALIZACIÓN DE LA INVESTIGACIÓN
DESCRIPTION:
URL:https://catedradelaguaua.org/event/seminario-de-internacionalizacion-de-la-investigacion-2/
LOCATION:Videoconferencia
END:VEVENT
END:VCALENDAR