BEGIN:VCALENDAR
VERSION:2.0
PRODID:-//Cátedra del Agua - ECPv4.6.25//NONSGML v1.0//EN
CALSCALE:GREGORIAN
METHOD:PUBLISH
X-WR-CALNAME:Cátedra del Agua
X-ORIGINAL-URL:https://catedradelaguaua.org
X-WR-CALDESC:Eventos para Cátedra del Agua
BEGIN:VEVENT
DTSTART;TZID=Europe/Madrid:20220531T100000
DTEND;TZID=Europe/Madrid:20220531T120000
DTSTAMP:20260422T185833
CREATED:20220502T131248Z
LAST-MODIFIED:20220502T131248Z
UID:1698-1653991200-1653998400@catedradelaguaua.org
SUMMARY:Seminario Participación social y gestión de riesgos ambientales
DESCRIPTION:
URL:https://catedradelaguaua.org/event/seminario-participacion-social-y-gestion-de-riesgos-ambientales/
LOCATION:Aula posgrado IUACA
END:VEVENT
END:VCALENDAR