BEGIN:VCALENDAR
VERSION:2.0
PRODID:-//Cátedra del Agua - ECPv4.6.25//NONSGML v1.0//EN
CALSCALE:GREGORIAN
METHOD:PUBLISH
X-WR-CALNAME:Cátedra del Agua
X-ORIGINAL-URL:https://catedradelaguaua.org
X-WR-CALDESC:Eventos para Cátedra del Agua
BEGIN:VEVENT
DTSTART;TZID=Europe/Madrid:20210422T170000
DTEND;TZID=Europe/Madrid:20210422T183000
DTSTAMP:20260423T175354
CREATED:20210326T103645Z
LAST-MODIFIED:20210326T103925Z
UID:1562-1619110800-1619116200@catedradelaguaua.org
SUMMARY:SEMINARIO HACIA LA TRANSICIÓN VERDE Y LA RECUPERACIÓN: OPCIONES DE POLÍTICA FISCAL EN MATERIA AMBIENTAL
DESCRIPTION:
URL:https://catedradelaguaua.org/event/seminario-hacia-la-transicion-verde-y-la-recuperacion-opciones-de-politica-fiscal-en-materia-ambiental/
LOCATION:Meet
END:VEVENT
END:VCALENDAR