BEGIN:VCALENDAR
VERSION:2.0
PRODID:-//Cátedra del Agua - ECPv4.6.25//NONSGML v1.0//EN
CALSCALE:GREGORIAN
METHOD:PUBLISH
X-WR-CALNAME:Cátedra del Agua
X-ORIGINAL-URL:https://catedradelaguaua.org
X-WR-CALDESC:Eventos para Cátedra del Agua
BEGIN:VEVENT
DTSTART;TZID=Europe/Madrid:20200910T090000
DTEND;TZID=Europe/Madrid:20200911T133000
DTSTAMP:20260424T052054
CREATED:20200415T120137Z
LAST-MODIFIED:20200415T120137Z
UID:1374-1599728400-1599831000@catedradelaguaua.org
SUMMARY:CONGRESO NACIONAL DE INUNDACIONES ORIHUELA 2020
DESCRIPTION:
URL:https://catedradelaguaua.org/event/congreso-nacional-de-inundaciones-orihuela-2020/
LOCATION:Auditorio de La Lonja de Orihuela
END:VEVENT
BEGIN:VEVENT
DTSTART;TZID=Europe/Madrid:20200911T200000
DTEND;TZID=Europe/Madrid:20200911T213000
DTSTAMP:20260424T052054
CREATED:20200915T125736Z
LAST-MODIFIED:20200915T125736Z
UID:1471-1599854400-1599859800@catedradelaguaua.org
SUMMARY:Seminario internacional Reutilización de agua en agricultura
DESCRIPTION:
URL:https://catedradelaguaua.org/event/seminario-internacional-reutilizacion-de-agua-en-agricultura/
END:VEVENT
END:VCALENDAR