BEGIN:VCALENDAR
VERSION:2.0
PRODID:-//Cátedra del Agua - ECPv4.6.25//NONSGML v1.0//EN
CALSCALE:GREGORIAN
METHOD:PUBLISH
X-WR-CALNAME:Cátedra del Agua
X-ORIGINAL-URL:https://catedradelaguaua.org
X-WR-CALDESC:Eventos para Cátedra del Agua
BEGIN:VEVENT
DTSTART;TZID=Europe/Madrid:20200804T183000
DTEND;TZID=Europe/Madrid:20200804T200000
DTSTAMP:20260424T064148
CREATED:20200806T081019Z
LAST-MODIFIED:20200806T081019Z
UID:1420-1596565800-1596571200@catedradelaguaua.org
SUMMARY:SEMINARIO GOBERNANZA Y GESTIÓN DEL AGUA EN ESPAÑA
DESCRIPTION:
URL:https://catedradelaguaua.org/event/seminario-gobernanza-y-gestion-del-agua-en-espana/
END:VEVENT
END:VCALENDAR