BEGIN:VCALENDAR
VERSION:2.0
PRODID:-//Cátedra del Agua - ECPv4.6.25//NONSGML v1.0//EN
CALSCALE:GREGORIAN
METHOD:PUBLISH
X-WR-CALNAME:Cátedra del Agua
X-ORIGINAL-URL:https://catedradelaguaua.org
X-WR-CALDESC:Eventos para Cátedra del Agua
BEGIN:VEVENT
DTSTART;TZID=Europe/Madrid:20190131T120000
DTEND;TZID=Europe/Madrid:20190131T140000
DTSTAMP:20260425T104512
CREATED:20190117T124639Z
LAST-MODIFIED:20190117T124639Z
UID:1165-1548936000-1548943200@catedradelaguaua.org
SUMMARY:Jornada 40 aniversario del trasvase Tajo-Segura
DESCRIPTION:
URL:https://catedradelaguaua.org/event/jornada-40-aniversario-del-trasvase-tajo-segura/
LOCATION:Sede Comunidad de Regantes Riegos de Levante Margen Derecha
ORGANIZER;CN="Comunidad%20de%20Regantes%20Riegos%20de%20Levante%20Margen%20Derecha":MAILTO:rlmargenderecha@gmail.com
END:VEVENT
END:VCALENDAR