BEGIN:VCALENDAR
VERSION:2.0
PRODID:-//Cátedra del Agua - ECPv4.6.25//NONSGML v1.0//EN
CALSCALE:GREGORIAN
METHOD:PUBLISH
X-WR-CALNAME:Cátedra del Agua
X-ORIGINAL-URL:https://catedradelaguaua.org
X-WR-CALDESC:Eventos para Cátedra del Agua
BEGIN:VEVENT
DTSTART;TZID=Europe/Madrid:20181205T093000
DTEND;TZID=Europe/Madrid:20181205T130000
DTSTAMP:20260425T135355
CREATED:20181212T103504Z
LAST-MODIFIED:20181212T103504Z
UID:1111-1544002200-1544014800@catedradelaguaua.org
SUMMARY:Jornada sobre "Innovación en el ciclo urbano del agua"
DESCRIPTION:
URL:https://catedradelaguaua.org/event/jornada-sobre-innovacion-en-el-ciclo-urbano-del-agua/
LOCATION:Aula posgrado IUACA
END:VEVENT
END:VCALENDAR