BEGIN:VCALENDAR
VERSION:2.0
PRODID:-//Cátedra del Agua - ECPv4.6.25//NONSGML v1.0//EN
CALSCALE:GREGORIAN
METHOD:PUBLISH
X-WR-CALNAME:Cátedra del Agua
X-ORIGINAL-URL:https://catedradelaguaua.org
X-WR-CALDESC:Eventos para Cátedra del Agua
BEGIN:VEVENT
DTSTART;TZID=Europe/Madrid:20181030T110000
DTEND;TZID=Europe/Madrid:20181030T120000
DTSTAMP:20260425T154802
CREATED:20181213T121430Z
LAST-MODIFIED:20181213T121728Z
UID:1142-1540897200-1540900800@catedradelaguaua.org
SUMMARY:Firma de la Cátedra del Agua
DESCRIPTION:La Diputación y la Universidad de Alicante crean la cátedra del agua\, una iniciativa con la que se pretende promover la investigación y la formación en torno a esta materia\, así como la promoción de una gestión sostenible. \nEnlace a la noticia en Información \nEnlace a la noticia en ABC \n
URL:https://catedradelaguaua.org/event/firma-de-la-catedra-del-agua/
LOCATION:Diputación de Alicante
END:VEVENT
END:VCALENDAR