BEGIN:VCALENDAR
VERSION:2.0
PRODID:-//Cátedra del Agua - ECPv4.6.25//NONSGML v1.0//EN
CALSCALE:GREGORIAN
METHOD:PUBLISH
X-WR-CALNAME:Cátedra del Agua
X-ORIGINAL-URL:https://catedradelaguaua.org
X-WR-CALDESC:Eventos para Cátedra del Agua
BEGIN:VEVENT
DTSTART;TZID=Europe/Madrid:20240603T170000
DTEND;TZID=Europe/Madrid:20240604T140000
DTSTAMP:20260422T220816
CREATED:20240603T134705Z
LAST-MODIFIED:20240722T134129Z
UID:1944-1717434000-1717509600@catedradelaguaua.org
SUMMARY:X Jornadas Hispanobrasileñas: agua\, energía\, ciudades y seguridad alimentaria en el contexto del cambio climático
DESCRIPTION:
URL:https://catedradelaguaua.org/event/x-jornadas-hispanobrasilenas-agua-energia-ciudades-y-seguridad-alimentaria-en-el-contexto-del-cambio-climatico/
LOCATION:Sala de Juntas de la Facultad de Derecho de la Universidad de Alicante
END:VEVENT
END:VCALENDAR