BEGIN:VCALENDAR
VERSION:2.0
PRODID:-//Cátedra del Agua - ECPv4.6.25//NONSGML v1.0//EN
CALSCALE:GREGORIAN
METHOD:PUBLISH
X-WR-CALNAME:Cátedra del Agua
X-ORIGINAL-URL:https://catedradelaguaua.org
X-WR-CALDESC:Eventos para Cátedra del Agua
BEGIN:VEVENT
DTSTART;TZID=Europe/Madrid:20201106T130000
DTEND;TZID=Europe/Madrid:20201106T200000
DTSTAMP:20260422T103220
CREATED:20210211T120341Z
LAST-MODIFIED:20210211T120341Z
UID:1516-1604667600-1604692800@catedradelaguaua.org
SUMMARY:VII JORNADAS HISPANOBRASILEÑAS
DESCRIPTION:
URL:https://catedradelaguaua.org/event/vii-jornadas-hispanobrasilenas/
LOCATION:Meet
END:VEVENT
END:VCALENDAR