BEGIN:VCALENDAR
VERSION:2.0
PRODID:-//Cátedra del Agua - ECPv4.6.25//NONSGML v1.0//EN
CALSCALE:GREGORIAN
METHOD:PUBLISH
X-WR-CALNAME:Cátedra del Agua
X-ORIGINAL-URL:https://catedradelaguaua.org
X-WR-CALDESC:Eventos para Cátedra del Agua
BEGIN:VEVENT
DTSTART;TZID=Europe/Madrid:20200123T090000
DTEND;TZID=Europe/Madrid:20200123T110000
DTSTAMP:20260422T154259
CREATED:20200915T125432Z
LAST-MODIFIED:20200915T125432Z
UID:1467-1579770000-1579777200@catedradelaguaua.org
SUMMARY:Seminario Tribunal de las Aguas de Valencia
DESCRIPTION:
URL:https://catedradelaguaua.org/event/seminario-tribunal-de-las-aguas-de-valencia/
END:VEVENT
END:VCALENDAR