BEGIN:VCALENDAR
VERSION:2.0
PRODID:-//Cátedra del Agua - ECPv4.6.25//NONSGML v1.0//EN
CALSCALE:GREGORIAN
METHOD:PUBLISH
X-WR-CALNAME:Cátedra del Agua
X-ORIGINAL-URL:https://catedradelaguaua.org
X-WR-CALDESC:Eventos para Cátedra del Agua
BEGIN:VEVENT
DTSTART;TZID=Europe/Madrid:20190306T100000
DTEND;TZID=Europe/Madrid:20190306T130000
DTSTAMP:20260425T114312
CREATED:20190628T090129Z
LAST-MODIFIED:20190628T090446Z
UID:1209-1551866400-1551877200@catedradelaguaua.org
SUMMARY:Seminario sobre nuevas tendencias del urbanismo en Europa
DESCRIPTION:
URL:https://catedradelaguaua.org/event/seminario-sobre-nuevas-tendencias-del-urbanismo-en-europa/
LOCATION:Aula posgrado IUACA
END:VEVENT
END:VCALENDAR