BEGIN:VCALENDAR
VERSION:2.0
PRODID:-//Cátedra del Agua - ECPv4.6.25//NONSGML v1.0//EN
CALSCALE:GREGORIAN
METHOD:PUBLISH
X-WR-CALNAME:Cátedra del Agua
X-ORIGINAL-URL:https://catedradelaguaua.org
X-WR-CALDESC:Eventos para Cátedra del Agua
BEGIN:VEVENT
DTSTART;TZID=Europe/Madrid:20240910T160000
DTEND;TZID=Europe/Madrid:20240910T200000
DTSTAMP:20260422T172426
CREATED:20241011T121816Z
LAST-MODIFIED:20241011T121902Z
UID:2054-1725984000-1725998400@catedradelaguaua.org
SUMMARY:SEMINARIO SOBRE LAS POSIBLES VENTAJAS ENERGÉTICAS CON LA INSTALACIÓN DE PLACAS FOTOVOLTAICAS EN LAS BALSAS DE RIEGO
DESCRIPTION:\nEl seminario será impartido por José Alberto Redondo Orts y tendrá lugar en la Sala de conferencias del IUACA: https://www.sigua.ua.es/index.html?id=0037P1024\nUbicada en la primera planta del edificio Institutos Universitarios de la Universidad de Alicante: https://goo.gl/maps/gaQMmP6u8adamoz59\n\n
URL:https://catedradelaguaua.org/event/seminario-sobre-las-posibles-ventajas-energeticas-con-la-instalacion-de-placas-fotovoltaicas-en-las-balsas-de-riego/
LOCATION:Sala conferencias IUACA
END:VEVENT
END:VCALENDAR