BEGIN:VCALENDAR
VERSION:2.0
PRODID:-//Cátedra del Agua - ECPv4.6.25//NONSGML v1.0//EN
CALSCALE:GREGORIAN
METHOD:PUBLISH
X-WR-CALNAME:Cátedra del Agua
X-ORIGINAL-URL:https://catedradelaguaua.org
X-WR-CALDESC:Eventos para Cátedra del Agua
BEGIN:VEVENT
DTSTART;TZID=Europe/Madrid:20260507T160000
DTEND;TZID=Europe/Madrid:20260507T193000
DTSTAMP:20260420T084948
CREATED:20260330T093111Z
LAST-MODIFIED:20260330T093306Z
UID:2239-1778169600-1778182200@catedradelaguaua.org
SUMMARY:Seminario sobre fundamentos y cálculo de la huella hídrica
DESCRIPTION:
URL:https://catedradelaguaua.org/event/seminario-sobre-fundamentos-y-calculo-de-la-huella-hidrica/
LOCATION:Aula posgrado IUACA
END:VEVENT
END:VCALENDAR