BEGIN:VCALENDAR
VERSION:2.0
PRODID:-//Cátedra del Agua - ECPv4.6.25//NONSGML v1.0//EN
CALSCALE:GREGORIAN
METHOD:PUBLISH
X-WR-CALNAME:Cátedra del Agua
X-ORIGINAL-URL:https://catedradelaguaua.org
X-WR-CALDESC:Eventos para Cátedra del Agua
BEGIN:VEVENT
DTSTART;TZID=Europe/Madrid:20220606T100000
DTEND;TZID=Europe/Madrid:20220606T120000
DTSTAMP:20260422T190003
CREATED:20220502T131513Z
LAST-MODIFIED:20220502T131513Z
UID:1702-1654509600-1654516800@catedradelaguaua.org
SUMMARY:Seminario Retos del derecho de aguas
DESCRIPTION:
URL:https://catedradelaguaua.org/event/seminario-retos-del-derecho-de-aguas/
LOCATION:Aula posgrado IUACA
END:VEVENT
END:VCALENDAR