BEGIN:VCALENDAR
VERSION:2.0
PRODID:-//Cátedra del Agua - ECPv4.6.25//NONSGML v1.0//EN
CALSCALE:GREGORIAN
METHOD:PUBLISH
X-WR-CALNAME:Cátedra del Agua
X-ORIGINAL-URL:https://catedradelaguaua.org
X-WR-CALDESC:Eventos para Cátedra del Agua
BEGIN:VEVENT
DTSTART;TZID=Europe/Madrid:20200221T100000
DTEND;TZID=Europe/Madrid:20200221T120000
DTSTAMP:20260422T153932
CREATED:20200915T125000Z
LAST-MODIFIED:20200915T125000Z
UID:1459-1582279200-1582286400@catedradelaguaua.org
SUMMARY:Seminario Régimen jurídico de la responsabilidad medioambiental
DESCRIPTION:
URL:https://catedradelaguaua.org/event/seminario-regimen-juridico-de-la-responsabilidad-medioambiental/
END:VEVENT
END:VCALENDAR