BEGIN:VCALENDAR
VERSION:2.0
PRODID:-//Cátedra del Agua - ECPv4.6.25//NONSGML v1.0//EN
CALSCALE:GREGORIAN
METHOD:PUBLISH
X-WR-CALNAME:Cátedra del Agua
X-ORIGINAL-URL:https://catedradelaguaua.org
X-WR-CALDESC:Eventos para Cátedra del Agua
BEGIN:VEVENT
DTSTART;TZID=Europe/Madrid:20210303T170000
DTEND;TZID=Europe/Madrid:20210303T183000
DTSTAMP:20260422T085856
CREATED:20210211T123759Z
LAST-MODIFIED:20210211T123759Z
UID:1529-1614790800-1614796200@catedradelaguaua.org
SUMMARY:SEMINARIO ODS Y SU APLICACIÓN A LA INVESTIGACIÓN CIENTÍFICA
DESCRIPTION:
URL:https://catedradelaguaua.org/event/seminario-ods-y-su-aplicacion-a-la-investigacion-cientifica/
LOCATION:Meet
END:VEVENT
END:VCALENDAR