BEGIN:VCALENDAR
VERSION:2.0
PRODID:-//Cátedra del Agua - ECPv4.6.25//NONSGML v1.0//EN
CALSCALE:GREGORIAN
METHOD:PUBLISH
X-WR-CALNAME:Cátedra del Agua
X-ORIGINAL-URL:https://catedradelaguaua.org
X-WR-CALDESC:Eventos para Cátedra del Agua
BEGIN:VEVENT
DTSTART;TZID=Europe/Madrid:20200216T100000
DTEND;TZID=Europe/Madrid:20200216T120000
DTSTAMP:20260422T135809
CREATED:20200915T125523Z
LAST-MODIFIED:20200915T125617Z
UID:1469-1581847200-1581854400@catedradelaguaua.org
SUMMARY:Seminario Gobernanza\, participación pública y evaluación de impacto social
DESCRIPTION:
URL:https://catedradelaguaua.org/event/seminario-gobernanza-participacion-publica-y-evaluacion-de-impacto-social/
END:VEVENT
END:VCALENDAR