BEGIN:VCALENDAR
VERSION:2.0
PRODID:-//Cátedra del Agua - ECPv4.6.25//NONSGML v1.0//EN
CALSCALE:GREGORIAN
METHOD:PUBLISH
X-WR-CALNAME:Cátedra del Agua
X-ORIGINAL-URL:https://catedradelaguaua.org
X-WR-CALDESC:Eventos para Cátedra del Agua
BEGIN:VEVENT
DTSTART;TZID=Europe/Madrid:20210607T170000
DTEND;TZID=Europe/Madrid:20210607T183000
DTSTAMP:20260420T133617
CREATED:20211014T110633Z
LAST-MODIFIED:20211014T110633Z
UID:1620-1623085200-1623090600@catedradelaguaua.org
SUMMARY:SEMINARIO FÓRMULAS PARA LA GESTIÓN DEL TERRITORIO
DESCRIPTION:
URL:https://catedradelaguaua.org/event/seminario-formulas-para-la-gestion-del-territorio/
LOCATION:Meet
END:VEVENT
END:VCALENDAR