BEGIN:VCALENDAR
VERSION:2.0
PRODID:-//Cátedra del Agua - ECPv4.6.25//NONSGML v1.0//EN
CALSCALE:GREGORIAN
METHOD:PUBLISH
X-WR-CALNAME:Cátedra del Agua
X-ORIGINAL-URL:https://catedradelaguaua.org
X-WR-CALDESC:Eventos para Cátedra del Agua
BEGIN:VEVENT
DTSTART;TZID=Europe/Madrid:20200212T100000
DTEND;TZID=Europe/Madrid:20200212T120000
DTSTAMP:20260422T172050
CREATED:20200915T125203Z
LAST-MODIFIED:20200915T125203Z
UID:1463-1581501600-1581508800@catedradelaguaua.org
SUMMARY:Seminario Fiscalidad medioambiental
DESCRIPTION:
URL:https://catedradelaguaua.org/event/seminario-fiscalidad-medioambiental/
END:VEVENT
END:VCALENDAR