BEGIN:VCALENDAR
VERSION:2.0
PRODID:-//Cátedra del Agua - ECPv4.6.25//NONSGML v1.0//EN
CALSCALE:GREGORIAN
METHOD:PUBLISH
X-WR-CALNAME:Cátedra del Agua
X-ORIGINAL-URL:https://catedradelaguaua.org
X-WR-CALDESC:Eventos para Cátedra del Agua
BEGIN:VEVENT
DTSTART;TZID=Europe/Madrid:20220607T100000
DTEND;TZID=Europe/Madrid:20220607T120000
DTSTAMP:20260422T190039
CREATED:20220502T131705Z
LAST-MODIFIED:20220502T131705Z
UID:1704-1654596000-1654603200@catedradelaguaua.org
SUMMARY:Seminario Fiscalidad ambiental
DESCRIPTION:
URL:https://catedradelaguaua.org/event/seminario-fiscalidad-ambiental/
LOCATION:Aula posgrado IUACA
END:VEVENT
END:VCALENDAR