BEGIN:VCALENDAR
VERSION:2.0
PRODID:-//Cátedra del Agua - ECPv4.6.25//NONSGML v1.0//EN
CALSCALE:GREGORIAN
METHOD:PUBLISH
X-WR-CALNAME:Cátedra del Agua
X-ORIGINAL-URL:https://catedradelaguaua.org
X-WR-CALDESC:Eventos para Cátedra del Agua
BEGIN:VEVENT
DTSTART;TZID=Europe/Madrid:20210604T163000
DTEND;TZID=Europe/Madrid:20210604T180000
DTSTAMP:20260420T121215
CREATED:20211014T110800Z
LAST-MODIFIED:20211014T110822Z
UID:1622-1622824200-1622829600@catedradelaguaua.org
SUMMARY:SEMINARIO ESTUDIO JURÍDICO-AMBIENTAL SOBRE EL SISTEMA DE ZONAS HÚMEDAS DEL SUR DE ALICANTE
DESCRIPTION:
URL:https://catedradelaguaua.org/event/seminario-estudio-juridico-ambiental-sobre-el-sistema-de-zonas-humedas-del-sur-de-alicante/
LOCATION:Meet
END:VEVENT
END:VCALENDAR