BEGIN:VCALENDAR
VERSION:2.0
PRODID:-//Cátedra del Agua - ECPv4.6.25//NONSGML v1.0//EN
CALSCALE:GREGORIAN
METHOD:PUBLISH
X-WR-CALNAME:Cátedra del Agua
X-ORIGINAL-URL:https://catedradelaguaua.org
X-WR-CALDESC:Eventos para Cátedra del Agua
BEGIN:VEVENT
DTSTART;TZID=Europe/Madrid:20200213T120000
DTEND;TZID=Europe/Madrid:20200213T140000
DTSTAMP:20260422T154324
CREATED:20200915T125056Z
LAST-MODIFIED:20200915T125056Z
UID:1461-1581595200-1581602400@catedradelaguaua.org
SUMMARY:Seminario Economía y sostenibilidad
DESCRIPTION:
URL:https://catedradelaguaua.org/event/seminario-economia-y-sostenibilidad/
END:VEVENT
END:VCALENDAR