BEGIN:VCALENDAR
VERSION:2.0
PRODID:-//Cátedra del Agua - ECPv4.6.25//NONSGML v1.0//EN
CALSCALE:GREGORIAN
METHOD:PUBLISH
X-WR-CALNAME:Cátedra del Agua
X-ORIGINAL-URL:https://catedradelaguaua.org
X-WR-CALDESC:Eventos para Cátedra del Agua
BEGIN:VEVENT
DTSTART;TZID=Europe/Madrid:20240528T100000
DTEND;TZID=Europe/Madrid:20240528T120000
DTSTAMP:20260422T233851
CREATED:20240510T144928Z
LAST-MODIFIED:20240510T144928Z
UID:1942-1716890400-1716897600@catedradelaguaua.org
SUMMARY:SEMINARIO ECONOMÍA DE LOS RECURSOS NATURALES
DESCRIPTION:
URL:https://catedradelaguaua.org/event/seminario-economia-de-los-recursos-naturales-2/
END:VEVENT
END:VCALENDAR