BEGIN:VCALENDAR
VERSION:2.0
PRODID:-//Cátedra del Agua - ECPv4.6.25//NONSGML v1.0//EN
CALSCALE:GREGORIAN
METHOD:PUBLISH
X-WR-CALNAME:Cátedra del Agua
X-ORIGINAL-URL:https://catedradelaguaua.org
X-WR-CALDESC:Eventos para Cátedra del Agua
BEGIN:VEVENT
DTSTART;TZID=Europe/Madrid:20201028T130000
DTEND;TZID=Europe/Madrid:20201028T140000
DTSTAMP:20260422T103426
CREATED:20210211T120509Z
LAST-MODIFIED:20210211T120509Z
UID:1518-1603890000-1603893600@catedradelaguaua.org
SUMMARY:RESOLUCIÓN DE LOS PREMIOS CÁTEDRA DEL AGUA UA-DIPUTACIÓN DE ALICANTE 2020
DESCRIPTION:
URL:https://catedradelaguaua.org/event/resolucion-de-los-premios-catedra-del-agua-ua-diputacion-de-alicante-2020/
END:VEVENT
END:VCALENDAR