BEGIN:VCALENDAR
VERSION:2.0
PRODID:-//Cátedra del Agua - ECPv4.6.25//NONSGML v1.0//EN
CALSCALE:GREGORIAN
METHOD:PUBLISH
X-WR-CALNAME:Cátedra del Agua
X-ORIGINAL-URL:https://catedradelaguaua.org
X-WR-CALDESC:Eventos para Cátedra del Agua
BEGIN:VEVENT
DTSTART;TZID=Europe/Madrid:20190115T190000
DTEND;TZID=Europe/Madrid:20190115T203000
DTSTAMP:20260425T123435
CREATED:20190110T083321Z
LAST-MODIFIED:20190110T083321Z
UID:1151-1547578800-1547584200@catedradelaguaua.org
SUMMARY:Presentación del Pacto Provincial del Agua en la Sede Ciudad de Alicante
DESCRIPTION:
URL:https://catedradelaguaua.org/event/presentacion-del-pacto-provincial-del-agua-en-la-sede-ciudad-de-alicante/
LOCATION:Sede Ciudad de Alicante\, C/ Ramón y Cajal\, 4\, Alicante\, Alicante\, 03004\, España
END:VEVENT
END:VCALENDAR