BEGIN:VCALENDAR
VERSION:2.0
PRODID:-//Cátedra del Agua - ECPv4.6.25//NONSGML v1.0//EN
CALSCALE:GREGORIAN
METHOD:PUBLISH
X-WR-CALNAME:Cátedra del Agua
X-ORIGINAL-URL:https://catedradelaguaua.org
X-WR-CALDESC:Eventos para Cátedra del Agua
BEGIN:VEVENT
DTSTART;TZID=Europe/Madrid:20240408T190000
DTEND;TZID=Europe/Madrid:20240408T200000
DTSTAMP:20260423T050433
CREATED:20240408T103650Z
LAST-MODIFIED:20240408T103650Z
UID:1937-1712602800-1712606400@catedradelaguaua.org
SUMMARY:"Los trasvases. Un instrumento más de la gestión del agua"
DESCRIPTION:Ponencia invitada por la Real Sociedad Económica de Murcia\, celebrada en el Salón de Actos del Real Casino de Murcia \n
URL:https://catedradelaguaua.org/event/los-trasvases-un-instrumento-mas-de-la-gestion-del-agua/
LOCATION:Casino de Murcia
END:VEVENT
END:VCALENDAR