BEGIN:VCALENDAR
VERSION:2.0
PRODID:-//Cátedra del Agua - ECPv4.6.25//NONSGML v1.0//EN
CALSCALE:GREGORIAN
METHOD:PUBLISH
X-WR-CALNAME:Cátedra del Agua
X-ORIGINAL-URL:https://catedradelaguaua.org
X-WR-CALDESC:Eventos para Cátedra del Agua
BEGIN:VEVENT
DTSTART;TZID=Europe/Madrid:20221108T110000
DTEND;TZID=Europe/Madrid:20221108T130000
DTSTAMP:20260420T134621
CREATED:20221017T120916Z
LAST-MODIFIED:20221017T120916Z
UID:1764-1667905200-1667912400@catedradelaguaua.org
SUMMARY:JORNADA VALORACIÓN SOCIOECONÓMICA Y PATRIMONIAL DEL TRASVASE TAJO-SEGURA
DESCRIPTION:
URL:https://catedradelaguaua.org/event/jornada-valoracion-socioeconomica-y-patrimonial-del-trasvase-tajo-segura/
LOCATION:Centro Logístico de la Comunidad de Regantes Riegos de Levante Margen Derecha del Río Segura\, Partida Torrejón San Bruno\, 25\, Rojales\, 03170\, España
END:VEVENT
END:VCALENDAR