BEGIN:VCALENDAR
VERSION:2.0
PRODID:-//Cátedra del Agua - ECPv4.6.25//NONSGML v1.0//EN
CALSCALE:GREGORIAN
METHOD:PUBLISH
X-WR-CALNAME:Cátedra del Agua
X-ORIGINAL-URL:https://catedradelaguaua.org
X-WR-CALDESC:Eventos para Cátedra del Agua
BEGIN:VEVENT
DTSTART;TZID=Europe/Madrid:20240913T103000
DTEND;TZID=Europe/Madrid:20240913T140000
DTSTAMP:20260422T183818
CREATED:20240821T122341Z
LAST-MODIFIED:20240905T114421Z
UID:1997-1726223400-1726236000@catedradelaguaua.org
SUMMARY:JORNADA TÉCNICA «RETOS HÍDRICOS EN LA MARINA ALTA»
DESCRIPTION:
URL:https://catedradelaguaua.org/event/jornada-tecnica-retos-hidricos-en-la-marina-alta/
LOCATION:Club Náutico de Jávea/Xàbia\, Muelle Norte s/n\, Xàbia\, Alicante\, España
END:VEVENT
END:VCALENDAR