BEGIN:VCALENDAR
VERSION:2.0
PRODID:-//Cátedra del Agua - ECPv4.6.25//NONSGML v1.0//EN
CALSCALE:GREGORIAN
METHOD:PUBLISH
X-WR-CALNAME:Cátedra del Agua
X-ORIGINAL-URL:https://catedradelaguaua.org
X-WR-CALDESC:Eventos para Cátedra del Agua
BEGIN:VEVENT
DTSTART;TZID=Europe/Madrid:20190320T110000
DTEND;TZID=Europe/Madrid:20190320T143000
DTSTAMP:20260425T102733
CREATED:20190311T104439Z
LAST-MODIFIED:20190311T104439Z
UID:1183-1553079600-1553092200@catedradelaguaua.org
SUMMARY:JORNADA CONMEMORATIVA DÍA MUNDIAL DEL AGUA: AFRONTANDO LA ESCASEZ
DESCRIPTION:
URL:https://catedradelaguaua.org/event/jornada-conmemorativa-dia-mundial-del-agua-afrontando-la-escasez/
LOCATION:Salón de Grados de la Facultad de Ciencias Económicas y Empresariales de la Universidad de Alicante
END:VEVENT
END:VCALENDAR