BEGIN:VCALENDAR
VERSION:2.0
PRODID:-//Cátedra del Agua - ECPv4.6.25//NONSGML v1.0//EN
CALSCALE:GREGORIAN
METHOD:PUBLISH
X-WR-CALNAME:Cátedra del Agua
X-ORIGINAL-URL:https://catedradelaguaua.org
X-WR-CALDESC:Eventos para Cátedra del Agua
BEGIN:VEVENT
DTSTART;TZID=Europe/Madrid:20210930T083000
DTEND;TZID=Europe/Madrid:20211001T140000
DTSTAMP:20260420T120855
CREATED:20210423T104646Z
LAST-MODIFIED:20210423T104646Z
UID:1574-1632990600-1633096800@catedradelaguaua.org
SUMMARY:III CONGRESO NACIONAL DEL AGUA. FENÓMENOS EXTREMOS: SEQUÍAS E INUNDACIONES
DESCRIPTION:
URL:https://catedradelaguaua.org/event/iii-congreso-nacional-del-agua-fenomenos-extremos-sequias-e-inundaciones/
END:VEVENT
END:VCALENDAR