BEGIN:VCALENDAR
VERSION:2.0
PRODID:-//Cátedra del Agua - ECPv4.6.25//NONSGML v1.0//EN
CALSCALE:GREGORIAN
METHOD:PUBLISH
X-WR-CALNAME:Cátedra del Agua
X-ORIGINAL-URL:https://catedradelaguaua.org
X-WR-CALDESC:Eventos para Cátedra del Agua
BEGIN:VEVENT
DTSTART;TZID=Europe/Madrid:20210203T123000
DTEND;TZID=Europe/Madrid:20210203T140000
DTSTAMP:20260422T090845
CREATED:20210211T121233Z
LAST-MODIFIED:20210211T121233Z
UID:1520-1612355400-1612360800@catedradelaguaua.org
SUMMARY:ENCUENTRO DIGITAL «EXTERNALIDADES POSITIVAS DEL REGADÍO»
DESCRIPTION:
URL:https://catedradelaguaua.org/event/encuentro-digital-externalidades-positivas-del-regadio/
END:VEVENT
END:VCALENDAR