BEGIN:VCALENDAR
VERSION:2.0
PRODID:-//Cátedra del Agua - ECPv4.6.25//NONSGML v1.0//EN
CALSCALE:GREGORIAN
METHOD:PUBLISH
X-WR-CALNAME:Cátedra del Agua
X-ORIGINAL-URL:https://catedradelaguaua.org
X-WR-CALDESC:Eventos para Cátedra del Agua
BEGIN:VEVENT
DTSTART;TZID=Europe/Madrid:20230323T100000
DTEND;TZID=Europe/Madrid:20230323T140000
DTSTAMP:20260420T153030
CREATED:20230323T104524Z
LAST-MODIFIED:20230323T104524Z
UID:1806-1679565600-1679580000@catedradelaguaua.org
SUMMARY:DÍA MUNDIAL DEL AGUA 2023
DESCRIPTION:
URL:https://catedradelaguaua.org/event/dia-mundial-del-agua-2023/
LOCATION:Salón de Grados de la Facultad de Ciencias Económicas y Empresariales de la Universidad de Alicante
END:VEVENT
END:VCALENDAR