BEGIN:VCALENDAR
VERSION:2.0
PRODID:-//Cátedra del Agua - ECPv4.6.25//NONSGML v1.0//EN
CALSCALE:GREGORIAN
METHOD:PUBLISH
X-WR-CALNAME:Cátedra del Agua
X-ORIGINAL-URL:https://catedradelaguaua.org
X-WR-CALDESC:Eventos para Cátedra del Agua
BEGIN:VEVENT
DTSTART;TZID=Europe/Madrid:20211022T100000
DTEND;TZID=Europe/Madrid:20211022T130000
DTSTAMP:20260420T135132
CREATED:20211022T072349Z
LAST-MODIFIED:20211022T072349Z
UID:1636-1634896800-1634907600@catedradelaguaua.org
SUMMARY:CONFERENCIA EL TRASVASE TAJO-SEGURA Y SU REPERCUSIÓN ECONÓMICA
DESCRIPTION:
URL:https://catedradelaguaua.org/event/conferencia-el-trasvase-tajo-segura-y-su-repercusion-economica/
LOCATION:Aula posgrado IUACA
END:VEVENT
END:VCALENDAR